BEGIN:VCALENDAR
VERSION:2.0
PRODID:icalendar-ruby
CALSCALE:GREGORIAN
METHOD:PUBLISH
BEGIN:VEVENT
DTSTAMP:20260425T031413Z
UID:bff5dac7-d5da-45d0-9fad-008aa47fb98d
DTSTART;VALUE=DATE:20241203
DTEND;VALUE=DATE:20241203
DESCRIPTION:Cargill Park BMX
LOCATION:2800 Cargill Drive  Shreveport LA 71108 USA
SUMMARY:Local Race Single
URL:/site/bmx_races/556932
END:VEVENT
END:VCALENDAR
