BEGIN:VCALENDAR
VERSION:2.0
PRODID:icalendar-ruby
CALSCALE:GREGORIAN
METHOD:PUBLISH
BEGIN:VEVENT
DTSTAMP:20260426T011140Z
UID:60fe3e9f-95a7-4402-9641-e67c4591587d
DTSTART;VALUE=DATE:20241019
DTEND;VALUE=DATE:20241019
DESCRIPTION:Spartanburg BMX
LOCATION:1160 Old Furnace Rd  Boiling Springs SC 29316 USA
SUMMARY:Local Race Single
URL:/site/bmx_races/556464
END:VEVENT
END:VCALENDAR
