BEGIN:VCALENDAR
VERSION:2.0
PRODID:icalendar-ruby
CALSCALE:GREGORIAN
METHOD:PUBLISH
BEGIN:VEVENT
DTSTAMP:20260425T134909Z
UID:f694dac9-07d0-47f0-95bb-ce095dbd9a5e
DTSTART;VALUE=DATE:20240611
DTEND;VALUE=DATE:20240611
DESCRIPTION:Circle City BMX
LOCATION:Westgate Park    100 Recreation Rd Dothan AL 36305 USA
SUMMARY:Practice
URL:/site/bmx_races/554951
END:VEVENT
END:VCALENDAR
