BEGIN:VCALENDAR
VERSION:2.0
PRODID:icalendar-ruby
CALSCALE:GREGORIAN
METHOD:PUBLISH
BEGIN:VEVENT
DTSTAMP:20260425T154502Z
UID:d2d9d948-bddb-40fa-a0b9-724ab4c11434
DTSTART;VALUE=DATE:20240505
DTEND;VALUE=DATE:20240505
DESCRIPTION:Circle City BMX
LOCATION:Westgate Park    100 Recreation Rd Dothan AL 36305 USA
SUMMARY:Local Race Single
URL:/site/bmx_races/554935
END:VEVENT
END:VCALENDAR
