BEGIN:VCALENDAR
VERSION:2.0
PRODID:icalendar-ruby
CALSCALE:GREGORIAN
METHOD:PUBLISH
BEGIN:VEVENT
DTSTAMP:20260425T122639Z
UID:c161da97-f4ca-47b1-9aa4-ce0f91a5d572
DTSTART;VALUE=DATE:20241003
DTEND;VALUE=DATE:20241003
DESCRIPTION:Tucson BMX
LOCATION:9245 E Irvington  Tucson AZ 85730 USA
SUMMARY:Practice
URL:/site/bmx_races/554821
END:VEVENT
END:VCALENDAR
