BEGIN:VCALENDAR
VERSION:2.0
PRODID:icalendar-ruby
CALSCALE:GREGORIAN
METHOD:PUBLISH
BEGIN:VEVENT
DTSTAMP:20260425T232026Z
UID:4ffc9412-483c-4fc1-88b3-be05dbd6f4bb
DTSTART;VALUE=DATE:20240509
DTEND;VALUE=DATE:20240509
DESCRIPTION:Tucson BMX
LOCATION:9245 E Irvington  Tucson AZ 85730 USA
SUMMARY:Practice
URL:/site/bmx_races/554779
END:VEVENT
END:VCALENDAR
