BEGIN:VCALENDAR
VERSION:2.0
PRODID:icalendar-ruby
CALSCALE:GREGORIAN
METHOD:PUBLISH
BEGIN:VEVENT
DTSTAMP:20260425T123043Z
UID:a632f1e1-a65a-4703-9482-8819633a7e46
DTSTART;VALUE=DATE:20241015
DTEND;VALUE=DATE:20241015
DESCRIPTION:Cowtown BMX
LOCATION:447 Haltom Rd  Ft. Worth TX 76117 USA
SUMMARY:Practice
URL:/site/bmx_races/554688
END:VEVENT
END:VCALENDAR
