BEGIN:VCALENDAR
VERSION:2.0
PRODID:icalendar-ruby
CALSCALE:GREGORIAN
METHOD:PUBLISH
BEGIN:VEVENT
DTSTAMP:20260425T122939Z
UID:951bc9ad-37f6-47b0-80bf-c216251ef39a
DTSTART;VALUE=DATE:20241001
DTEND;VALUE=DATE:20241001
DESCRIPTION:Cowtown BMX
LOCATION:447 Haltom Rd  Ft. Worth TX 76117 USA
SUMMARY:Practice
URL:/site/bmx_races/554686
END:VEVENT
END:VCALENDAR
