BEGIN:VCALENDAR
VERSION:2.0
PRODID:icalendar-ruby
CALSCALE:GREGORIAN
METHOD:PUBLISH
BEGIN:VEVENT
DTSTAMP:20260425T232052Z
UID:aa764c21-d676-4813-bfe6-85b0d55c4369
DTSTART;VALUE=DATE:20240512
DTEND;VALUE=DATE:20240512
DESCRIPTION:Cowtown BMX
LOCATION:447 Haltom Rd  Ft. Worth TX 76117 USA
SUMMARY:Local Race Single
URL:/site/bmx_races/554617
END:VEVENT
END:VCALENDAR
