BEGIN:VCALENDAR
VERSION:2.0
PRODID:icalendar-ruby
CALSCALE:GREGORIAN
METHOD:PUBLISH
BEGIN:VEVENT
DTSTAMP:20260426T040016Z
UID:60949484-0060-4ff7-bc22-93d5d792b39a
DTSTART;VALUE=DATE:20240204
DTEND;VALUE=DATE:20240204
DESCRIPTION:Cowtown BMX
LOCATION:447 Haltom Rd  Ft. Worth TX 76117 USA
SUMMARY:Local Race Single
URL:/site/bmx_races/554603
END:VEVENT
END:VCALENDAR
