BEGIN:VCALENDAR
VERSION:2.0
PRODID:icalendar-ruby
CALSCALE:GREGORIAN
METHOD:PUBLISH
BEGIN:VEVENT
DTSTAMP:20260426T005755Z
UID:872198b3-bd54-45d1-89e2-1607eb5c97ea
DTSTART;VALUE=DATE:20240426
DTEND;VALUE=DATE:20240426
DESCRIPTION:Cowtown BMX
LOCATION:447 Haltom Rd  Ft. Worth TX 76117 USA
SUMMARY:Local Race Single
URL:/site/bmx_races/554564
END:VEVENT
END:VCALENDAR
