BEGIN:VCALENDAR
VERSION:2.0
PRODID:icalendar-ruby
CALSCALE:GREGORIAN
METHOD:PUBLISH
BEGIN:VEVENT
DTSTAMP:20260426T005812Z
UID:be95b845-00cc-435b-a9d7-48ef8073d74a
DTSTART;VALUE=DATE:20240412
DTEND;VALUE=DATE:20240412
DESCRIPTION:Cowtown BMX
LOCATION:447 Haltom Rd  Ft. Worth TX 76117 USA
SUMMARY:Local Race Single
URL:/site/bmx_races/554562
END:VEVENT
END:VCALENDAR
