BEGIN:VCALENDAR
VERSION:2.0
PRODID:icalendar-ruby
CALSCALE:GREGORIAN
METHOD:PUBLISH
BEGIN:VEVENT
DTSTAMP:20260425T152630Z
UID:1c542b8c-9538-45b1-86f4-e9ee72e72a84
DTSTART;VALUE=DATE:20240502
DTEND;VALUE=DATE:20240502
DESCRIPTION:Miami South BMX
LOCATION:13050 Sw 216th Street  Miami FL 33170 USA
SUMMARY:Local Race Single
URL:/site/bmx_races/554468
END:VEVENT
END:VCALENDAR
