BEGIN:VCALENDAR
VERSION:2.0
PRODID:icalendar-ruby
CALSCALE:GREGORIAN
METHOD:PUBLISH
BEGIN:VEVENT
DTSTAMP:20260425T183102Z
UID:1b517ee0-6feb-41a3-bd18-9b358740d52e
DTSTART;VALUE=DATE:20240328
DTEND;VALUE=DATE:20240328
DESCRIPTION:Miami South BMX
LOCATION:13050 Sw 216th Street  Miami FL 33170 USA
SUMMARY:Local Race Single
URL:/site/bmx_races/554463
END:VEVENT
END:VCALENDAR
