BEGIN:VCALENDAR
VERSION:2.0
PRODID:icalendar-ruby
CALSCALE:GREGORIAN
METHOD:PUBLISH
BEGIN:VEVENT
DTSTAMP:20260425T110720Z
UID:05ea127a-009c-4a32-9a0a-915c770896a8
DTSTART;VALUE=DATE:20240920
DTEND;VALUE=DATE:20240920
DESCRIPTION:Jacksonville BMX
LOCATION:1946 Ray Greene Drive  Jacksonville FL 32218 USA
SUMMARY:Local Race Single
URL:/site/bmx_races/553739
END:VEVENT
END:VCALENDAR
