BEGIN:VCALENDAR
VERSION:2.0
PRODID:icalendar-ruby
CALSCALE:GREGORIAN
METHOD:PUBLISH
BEGIN:VEVENT
DTSTAMP:20260425T215208Z
UID:348e9a97-7f86-454f-893d-2ab482536bd5
DTSTART;VALUE=DATE:20240312
DTEND;VALUE=DATE:20240312
DESCRIPTION:Jacksonville BMX
LOCATION:1946 Ray Greene Drive  Jacksonville FL 32218 USA
SUMMARY:Local Race Single
URL:/site/bmx_races/553684
END:VEVENT
END:VCALENDAR
