BEGIN:VCALENDAR
VERSION:2.0
PRODID:icalendar-ruby
CALSCALE:GREGORIAN
METHOD:PUBLISH
BEGIN:VEVENT
DTSTAMP:20260425T215257Z
UID:66dc5764-54ea-4ef1-85f8-184355c4d7da
DTSTART;VALUE=DATE:20240118
DTEND;VALUE=DATE:20240118
DESCRIPTION:Miami South BMX
LOCATION:13050 Sw 216th Street  Miami FL 33170 USA
SUMMARY:Local Race Single
URL:/site/bmx_races/553378
END:VEVENT
END:VCALENDAR
