BEGIN:VCALENDAR
VERSION:2.0
PRODID:icalendar-ruby
CALSCALE:GREGORIAN
METHOD:PUBLISH
BEGIN:VEVENT
DTSTAMP:20260425T234753Z
UID:7582e505-5f77-4399-ab76-dd8a06c2bda1
DTSTART;VALUE=DATE:20240912
DTEND;VALUE=DATE:20240912
DESCRIPTION:Southern Maryland BMX
LOCATION:26600 Budds Creek Rd  Mechanicsville MD 20659 USA
SUMMARY:Local Race Single
URL:/site/bmx_races/553331
END:VEVENT
END:VCALENDAR
