BEGIN:VCALENDAR
VERSION:2.0
PRODID:icalendar-ruby
CALSCALE:GREGORIAN
METHOD:PUBLISH
BEGIN:VEVENT
DTSTAMP:20260426T025438Z
UID:03e59e11-5a08-4e26-b148-8a96d3f360bc
DTSTART;VALUE=DATE:20241203
DTEND;VALUE=DATE:20241203
DESCRIPTION:Smoky Mountain BMX
LOCATION:3100 Lorino Park Road  Morristown TN 37813 USA
SUMMARY:Practice
URL:/site/bmx_races/552756
END:VEVENT
END:VCALENDAR
