BEGIN:VCALENDAR
VERSION:2.0
PRODID:icalendar-ruby
CALSCALE:GREGORIAN
METHOD:PUBLISH
BEGIN:VEVENT
DTSTAMP:20260426T042210Z
UID:d332ba1d-f59b-4220-b282-b4e95781ffd8
DTSTART;VALUE=DATE:20241214
DTEND;VALUE=DATE:20241214
DESCRIPTION:Smoky Mountain BMX
LOCATION:3100 Lorino Park Road  Morristown TN 37813 USA
SUMMARY:Local Race Single
URL:/site/bmx_races/552711
END:VEVENT
END:VCALENDAR
