BEGIN:VCALENDAR
VERSION:2.0
PRODID:icalendar-ruby
CALSCALE:GREGORIAN
METHOD:PUBLISH
BEGIN:VEVENT
DTSTAMP:20260425T142011Z
UID:1cff5c9e-e347-409a-ac57-d0699fbadc23
DTSTART;VALUE=DATE:20231130
DTEND;VALUE=DATE:20231130
DESCRIPTION:High Springs BMX
LOCATION:  High Springs FL 32028 USA
SUMMARY:Local Race Single
URL:/site/bmx_races/552531
END:VEVENT
END:VCALENDAR
