BEGIN:VCALENDAR
VERSION:2.0
PRODID:icalendar-ruby
CALSCALE:GREGORIAN
METHOD:PUBLISH
BEGIN:VEVENT
DTSTAMP:20260425T165407Z
UID:1e552614-d30e-4a02-bef6-ce361c11ffb4
DTSTART;VALUE=DATE:20241005
DTEND;VALUE=DATE:20241005
DESCRIPTION:Sarasota BMX
LOCATION:1590 North Tuttle Avenue  Sarasota FL 34237 USA
SUMMARY:Clinic
URL:/site/bmx_races/552254
END:VEVENT
END:VCALENDAR
