BEGIN:VCALENDAR
VERSION:2.0
PRODID:icalendar-ruby
CALSCALE:GREGORIAN
METHOD:PUBLISH
BEGIN:VEVENT
DTSTAMP:20260425T215135Z
UID:2f77074c-46df-47da-b6df-eff02c53c2c7
DTSTART;VALUE=DATE:20240806
DTEND;VALUE=DATE:20240806
DESCRIPTION:Sarasota BMX
LOCATION:1590 North Tuttle Avenue  Sarasota FL 34237 USA
SUMMARY:Practice
URL:/site/bmx_races/552202
END:VEVENT
END:VCALENDAR
