BEGIN:VCALENDAR
VERSION:2.0
PRODID:icalendar-ruby
CALSCALE:GREGORIAN
METHOD:PUBLISH
BEGIN:VEVENT
DTSTAMP:20260425T215222Z
UID:4e3970a4-3d7b-48e7-83e2-9b06d57558a7
DTSTART;VALUE=DATE:20240713
DTEND;VALUE=DATE:20240713
DESCRIPTION:Sarasota BMX
LOCATION:1590 North Tuttle Avenue  Sarasota FL 34237 USA
SUMMARY:Clinic
URL:/site/bmx_races/552182
END:VEVENT
END:VCALENDAR
