BEGIN:VCALENDAR
VERSION:2.0
PRODID:icalendar-ruby
CALSCALE:GREGORIAN
METHOD:PUBLISH
BEGIN:VEVENT
DTSTAMP:20260426T023241Z
UID:430c6d9b-3f11-417f-8088-0c90c7adabba
DTSTART;VALUE=DATE:20240504
DTEND;VALUE=DATE:20240504
DESCRIPTION:Sarasota BMX
LOCATION:1590 North Tuttle Avenue  Sarasota FL 34237 USA
SUMMARY:Clinic
URL:/site/bmx_races/552122
END:VEVENT
END:VCALENDAR
