BEGIN:VCALENDAR
VERSION:2.0
PRODID:icalendar-ruby
CALSCALE:GREGORIAN
METHOD:PUBLISH
BEGIN:VEVENT
DTSTAMP:20260424T215257Z
UID:e12c89ff-f05b-4eae-b5ee-abe4a44bc2f8
DTSTART;VALUE=DATE:20231118
DTEND;VALUE=DATE:20231118
DESCRIPTION:Bradley BMX
LOCATION:234 Urbane Rd  Cleveland TN 37312 USA
SUMMARY:Local Race Single
URL:/site/bmx_races/551920
END:VEVENT
END:VCALENDAR
