BEGIN:VCALENDAR
VERSION:2.0
PRODID:icalendar-ruby
CALSCALE:GREGORIAN
METHOD:PUBLISH
BEGIN:VEVENT
DTSTAMP:20260424T141305Z
UID:0ec0d5d2-57af-470f-98a7-54c33f6dc079
DTSTART;VALUE=DATE:20231205
DTEND;VALUE=DATE:20231205
DESCRIPTION:Miami South BMX
LOCATION:13050 Sw 216th Street  Miami FL 33170 USA
SUMMARY:Local Race Single
URL:/site/bmx_races/551733
END:VEVENT
END:VCALENDAR
