BEGIN:VCALENDAR
VERSION:2.0
PRODID:icalendar-ruby
CALSCALE:GREGORIAN
METHOD:PUBLISH
BEGIN:VEVENT
DTSTAMP:20260425T122821Z
UID:16a59f0f-ab4a-4931-a908-c25272e7aa2d
DTSTART;VALUE=DATE:20240521
DTEND;VALUE=DATE:20240521
DESCRIPTION:Aberdeen Hub Area BMX
LOCATION:1111 1st Ave Se  Aberdeen SD 57401 USA
SUMMARY:Practice
URL:/site/bmx_races/551584
END:VEVENT
END:VCALENDAR
