BEGIN:VCALENDAR
VERSION:2.0
PRODID:icalendar-ruby
CALSCALE:GREGORIAN
METHOD:PUBLISH
BEGIN:VEVENT
DTSTAMP:20260425T110836Z
UID:c56c816a-c880-4bf1-9630-33e6b2611cb0
DTSTART;VALUE=DATE:20240602
DTEND;VALUE=DATE:20240602
DESCRIPTION:Aberdeen Hub Area BMX
LOCATION:1111 1st Ave Se  Aberdeen SD 57401 USA
SUMMARY:Local Race Single
URL:/site/bmx_races/551563
END:VEVENT
END:VCALENDAR
