BEGIN:VCALENDAR
VERSION:2.0
PRODID:icalendar-ruby
CALSCALE:GREGORIAN
METHOD:PUBLISH
BEGIN:VEVENT
DTSTAMP:20260424T084420Z
UID:3af22ea7-37ab-4d5d-ab66-ea5bcfdd71c3
DTSTART;VALUE=DATE:20231209
DTEND;VALUE=DATE:20231209
DESCRIPTION:Chehalem Valley BMX
LOCATION:1201 Blaine St  Newberg OR 97132 USA
SUMMARY:Local Race Single
URL:/site/bmx_races/551434
END:VEVENT
END:VCALENDAR
