BEGIN:VCALENDAR
VERSION:2.0
PRODID:icalendar-ruby
CALSCALE:GREGORIAN
METHOD:PUBLISH
BEGIN:VEVENT
DTSTAMP:20260426T040014Z
UID:0f655dec-9545-40f4-abc8-66c2768314f3
DTSTART;VALUE=DATE:20240611
DTEND;VALUE=DATE:20240611
DESCRIPTION:Cobb County BMX
LOCATION:3820 Macedonia Rd  Powder Springs GA 30127 USA
SUMMARY:Race for Life Double
URL:/site/bmx_races/551007
END:VEVENT
END:VCALENDAR
