BEGIN:VCALENDAR
VERSION:2.0
PRODID:icalendar-ruby
CALSCALE:GREGORIAN
METHOD:PUBLISH
BEGIN:VEVENT
DTSTAMP:20260425T152806Z
UID:12c001d1-3678-456a-874a-906aec230994
DTSTART;VALUE=DATE:20240605
DTEND;VALUE=DATE:20240605
DESCRIPTION:Bethel Supercross BMX
LOCATION:162 Old Hawleyville Rd  Bethel CT 06801 USA
SUMMARY:BMX Registration Day Single
URL:/site/bmx_races/550876
END:VEVENT
END:VCALENDAR
