BEGIN:VCALENDAR
VERSION:2.0
PRODID:icalendar-ruby
CALSCALE:GREGORIAN
METHOD:PUBLISH
BEGIN:VEVENT
DTSTAMP:20260424T094934Z
UID:c5e2d6a9-5d5c-4822-a57e-da400ca33b93
DTSTART;VALUE=DATE:20231207
DTEND;VALUE=DATE:20231207
DESCRIPTION:Yucaipa BMX
LOCATION:32750 Thunderbird Way  Yucaipa CA 92399 USA
SUMMARY:Local Race Single
URL:/site/bmx_races/550743
END:VEVENT
END:VCALENDAR
