BEGIN:VCALENDAR
VERSION:2.0
PRODID:icalendar-ruby
CALSCALE:GREGORIAN
METHOD:PUBLISH
BEGIN:VEVENT
DTSTAMP:20260425T152820Z
UID:19b6d250-9753-44da-90ad-65fef246b0ae
DTSTART;VALUE=DATE:20240908
DTEND;VALUE=DATE:20240908
DESCRIPTION:Bakerview BMX
LOCATION:3101 E Fir Street  Mt. Vernon WA 98273 USA
SUMMARY:Local Race Single
URL:/site/bmx_races/550685
END:VEVENT
END:VCALENDAR
