BEGIN:VCALENDAR
VERSION:2.0
PRODID:icalendar-ruby
CALSCALE:GREGORIAN
METHOD:PUBLISH
BEGIN:VEVENT
DTSTAMP:20260425T165413Z
UID:8d3a5549-a4e0-49db-9657-e8a6506e2f8c
DTSTART;VALUE=DATE:20240818
DTEND;VALUE=DATE:20240818
DESCRIPTION:Bakerview BMX
LOCATION:3101 E Fir Street  Mt. Vernon WA 98273 USA
SUMMARY:Local Race Single
URL:/site/bmx_races/550682
END:VEVENT
END:VCALENDAR
