BEGIN:VCALENDAR
VERSION:2.0
PRODID:icalendar-ruby
CALSCALE:GREGORIAN
METHOD:PUBLISH
BEGIN:VEVENT
DTSTAMP:20260425T165413Z
UID:d6cb9669-1215-4fba-bb3f-f72c828080f4
DTSTART;VALUE=DATE:20240820
DTEND;VALUE=DATE:20240820
DESCRIPTION:Bakerview BMX
LOCATION:3101 E Fir Street  Mt. Vernon WA 98273 USA
SUMMARY:Practice
URL:/site/bmx_races/550649
END:VEVENT
END:VCALENDAR
