BEGIN:VCALENDAR
VERSION:2.0
PRODID:icalendar-ruby
CALSCALE:GREGORIAN
METHOD:PUBLISH
BEGIN:VEVENT
DTSTAMP:20260425T183123Z
UID:5bade036-f1fd-4cc1-9fd1-97a91eafb07e
DTSTART;VALUE=DATE:20240716
DTEND;VALUE=DATE:20240716
DESCRIPTION:Bakerview BMX
LOCATION:3101 E Fir Street  Mt. Vernon WA 98273 USA
SUMMARY:Practice
URL:/site/bmx_races/550644
END:VEVENT
END:VCALENDAR
