BEGIN:VCALENDAR
VERSION:2.0
PRODID:icalendar-ruby
CALSCALE:GREGORIAN
METHOD:PUBLISH
BEGIN:VEVENT
DTSTAMP:20260426T023238Z
UID:c3240c0d-d7a5-4a42-ab35-349154bd29ef
DTSTART;VALUE=DATE:20240507
DTEND;VALUE=DATE:20240507
DESCRIPTION:Columbia Basin BMX
LOCATION:2002 Snyder St  Richland WA 99354 USA
SUMMARY:Local Race Single
URL:/site/bmx_races/549859
END:VEVENT
END:VCALENDAR
