BEGIN:VCALENDAR
VERSION:2.0
PRODID:icalendar-ruby
CALSCALE:GREGORIAN
METHOD:PUBLISH
BEGIN:VEVENT
DTSTAMP:20260426T040007Z
UID:7dbf4703-4a9f-49fa-9a53-24f3cd800094
DTSTART;VALUE=DATE:20240427
DTEND;VALUE=DATE:20240427
DESCRIPTION:Columbia Basin BMX
LOCATION:2002 Snyder St  Richland WA 99354 USA
SUMMARY:Local Race Single
URL:/site/bmx_races/549856
END:VEVENT
END:VCALENDAR
