BEGIN:VCALENDAR
VERSION:2.0
PRODID:icalendar-ruby
CALSCALE:GREGORIAN
METHOD:PUBLISH
BEGIN:VEVENT
DTSTAMP:20260425T200729Z
UID:1ae69c77-b8c3-4c49-a90f-93dc5cc48173
DTSTART;VALUE=DATE:20130329
DTEND;VALUE=DATE:20130329
DESCRIPTION:Boomtown BMX
LOCATION:17760 Shasta Dam Blvd  Shasta Lake CA 96019 USA
SUMMARY:Local Race Single
URL:/site/bmx_races/54969
END:VEVENT
END:VCALENDAR
