BEGIN:VCALENDAR
VERSION:2.0
PRODID:icalendar-ruby
CALSCALE:GREGORIAN
METHOD:PUBLISH
BEGIN:VEVENT
DTSTAMP:20260426T005933Z
UID:28a7f00e-9823-4bfe-b1b6-5606e70b2dd0
DTSTART;VALUE=DATE:20240423
DTEND;VALUE=DATE:20240423
DESCRIPTION:Hampton BMX
LOCATION:901 E Littleback River Rd  Hampton VA 23669 USA
SUMMARY:Practice
URL:/site/bmx_races/548938
END:VEVENT
END:VCALENDAR
