BEGIN:VCALENDAR
VERSION:2.0
PRODID:icalendar-ruby
CALSCALE:GREGORIAN
METHOD:PUBLISH
BEGIN:VEVENT
DTSTAMP:20260426T005817Z
UID:c5bcc84d-0944-4dd7-8147-94f56c6f3bc9
DTSTART;VALUE=DATE:20240416
DTEND;VALUE=DATE:20240416
DESCRIPTION:Hampton BMX
LOCATION:901 E Littleback River Rd  Hampton VA 23669 USA
SUMMARY:Practice
URL:/site/bmx_races/548936
END:VEVENT
END:VCALENDAR
