BEGIN:VCALENDAR
VERSION:2.0
PRODID:icalendar-ruby
CALSCALE:GREGORIAN
METHOD:PUBLISH
BEGIN:VEVENT
DTSTAMP:20260426T023252Z
UID:0f161d76-52b7-4ce9-b04f-9407ac9b102f
DTSTART;VALUE=DATE:20240312
DTEND;VALUE=DATE:20240312
DESCRIPTION:Hampton BMX
LOCATION:901 E Littleback River Rd  Hampton VA 23669 USA
SUMMARY:Practice
URL:/site/bmx_races/548926
END:VEVENT
END:VCALENDAR
