BEGIN:VCALENDAR
VERSION:2.0
PRODID:icalendar-ruby
CALSCALE:GREGORIAN
METHOD:PUBLISH
BEGIN:VEVENT
DTSTAMP:20260425T152543Z
UID:c26d0470-388d-4ef5-a356-2a26847864fe
DTSTART;VALUE=DATE:20240811
DTEND;VALUE=DATE:20240811
DESCRIPTION:River Valley BMX
LOCATION:7800 Riverside Rd E  Sumner WA 98360 USA
SUMMARY:State Race Double
URL:/site/bmx_races/547593
END:VEVENT
END:VCALENDAR
