BEGIN:VCALENDAR
VERSION:2.0
PRODID:icalendar-ruby
CALSCALE:GREGORIAN
METHOD:PUBLISH
BEGIN:VEVENT
DTSTAMP:20260425T134716Z
UID:25347ec1-85a0-4857-912f-4a59f88fd4bc
DTSTART;VALUE=DATE:20240606
DTEND;VALUE=DATE:20240606
DESCRIPTION:Richmond BMX
LOCATION:4401 Hobbs Lane   Next To Church Richmond VA 23231 USA
SUMMARY:Practice
URL:/site/bmx_races/547532
END:VEVENT
END:VCALENDAR
