BEGIN:VCALENDAR
VERSION:2.0
PRODID:icalendar-ruby
CALSCALE:GREGORIAN
METHOD:PUBLISH
BEGIN:VEVENT
DTSTAMP:20260425T152545Z
UID:5d2751a8-8ba2-448e-9597-cfa82987e6d9
DTSTART;VALUE=DATE:20240528
DTEND;VALUE=DATE:20240528
DESCRIPTION:Richmond BMX
LOCATION:4401 Hobbs Lane   Next To Church Richmond VA 23231 USA
SUMMARY:Practice
URL:/site/bmx_races/547529
END:VEVENT
END:VCALENDAR
