BEGIN:VCALENDAR
VERSION:2.0
PRODID:icalendar-ruby
CALSCALE:GREGORIAN
METHOD:PUBLISH
BEGIN:VEVENT
DTSTAMP:20260425T122735Z
UID:9643d9ab-2663-4b7e-956c-24fe5ab05cf5
DTSTART;VALUE=DATE:20240728
DTEND;VALUE=DATE:20240728
DESCRIPTION:Richmond BMX
LOCATION:4401 Hobbs Lane   Next To Church Richmond VA 23231 USA
SUMMARY:Local Race Single
URL:/site/bmx_races/547498
END:VEVENT
END:VCALENDAR
