BEGIN:VCALENDAR
VERSION:2.0
PRODID:icalendar-ruby
CALSCALE:GREGORIAN
METHOD:PUBLISH
BEGIN:VEVENT
DTSTAMP:20260426T005823Z
UID:08f4fff8-63b2-4a14-bd2d-ce614d7c769e
DTSTART;VALUE=DATE:20240616
DTEND;VALUE=DATE:20240616
DESCRIPTION:Columbia Basin BMX
LOCATION:2002 Snyder St  Richland WA 99354 USA
SUMMARY:State Race Double
URL:/site/bmx_races/547478
END:VEVENT
END:VCALENDAR
