BEGIN:VCALENDAR
VERSION:2.0
PRODID:icalendar-ruby
CALSCALE:GREGORIAN
METHOD:PUBLISH
BEGIN:VEVENT
DTSTAMP:20260425T165407Z
UID:adcf31b1-830e-441f-804b-13efacf02aa8
DTSTART;VALUE=DATE:20240907
DTEND;VALUE=DATE:20240907
DESCRIPTION:Desoto BMX
LOCATION:Grimes Park 500 E. Centre Park Blvd Desoto TX 75115 USA
SUMMARY:Local Race Single
URL:/site/bmx_races/547244
END:VEVENT
END:VCALENDAR
