BEGIN:VCALENDAR
VERSION:2.0
PRODID:icalendar-ruby
CALSCALE:GREGORIAN
METHOD:PUBLISH
BEGIN:VEVENT
DTSTAMP:20260425T122706Z
UID:8623b188-4774-4fd1-86bd-6189a8f6cbf3
DTSTART;VALUE=DATE:20241206
DTEND;VALUE=DATE:20241206
DESCRIPTION:Desoto BMX
LOCATION:Grimes Park 500 E. Centre Park Blvd Desoto TX 75115 USA
SUMMARY:Local Race Single
URL:/site/bmx_races/547207
END:VEVENT
END:VCALENDAR
